BEGIN:VCALENDAR
VERSION:2.0
PRODID:-//eventon.com NONSGML v1.0//EN
CALSCALE:GREGORIAN
METHOD:PUBLISH
BEGIN:VEVENT
UID:69eb431f6c67b
DTSTAMP:20260424T101703Z
DTSTART:20231201
DTEND:20231202
LOCATION:Ponferrada Diferentes localizaciones
SUMMARY:Navidad 2023 en Ponferrada
DESCRIPTION:\nhttps://ponferradahoy.com/agenda-bierzo/navidad-2023-en-ponfe
 rrada/
URL:https://ponferradahoy.com/agenda-bierzo/navidad-2023-en-ponferrada/
END:VEVENT
END:VCALENDAR