BEGIN:VCALENDAR
VERSION:2.0
PRODID:-//eventon.com NONSGML v1.0//EN
CALSCALE:GREGORIAN
METHOD:PUBLISH
BEGIN:VEVENT
UID:69e98964a90bb
DTSTAMP:20260423T025220Z
DTSTART:20230519T183000Z
DTEND:20230519T203100Z
LOCATION:Teatro Municipal Bergidum Calle Ancha
SUMMARY:Teatro MENÚ DE VICIO Y ENGAÑO
DESCRIPTION:\nhttps://ponferradahoy.com/agenda-bierzo/teatro-menu-de-vicio-
 y-engano/
URL:https://ponferradahoy.com/agenda-bierzo/teatro-menu-de-vicio-y-engano/
END:VEVENT
END:VCALENDAR